BEGIN:VCALENDAR
PRODID:-//Microsoft Corporation//Outlook MIMEDIR//EN
VERSION:2.0
METHOD:PUBLISH
BEGIN:VEVENT
DTSTART:20260427T090000
DTEND:20260427T100000
DESCRIPTION:
LOCATION:Board Chambers, Room 1070 County Administration Center
SUMMARY:Assessment Appeals Board
CATEGORIES:MEETING
END:VEVENT
END:VCALENDAR
